BEGIN:VCALENDAR
VERSION:2.0
PRODID:-//ATREG - ECPv6.9.0//NONSGML v1.0//EN
CALSCALE:GREGORIAN
METHOD:PUBLISH
X-WR-CALNAME:ATREG
X-ORIGINAL-URL:https://atreg.com
X-WR-CALDESC:Events for ATREG
REFRESH-INTERVAL;VALUE=DURATION:PT1H
X-Robots-Tag:noindex
X-PUBLISHED-TTL:PT1H
BEGIN:VTIMEZONE
TZID:America/Los_Angeles
BEGIN:DAYLIGHT
TZOFFSETFROM:-0800
TZOFFSETTO:-0700
TZNAME:PDT
DTSTART:20250309T100000
END:DAYLIGHT
BEGIN:STANDARD
TZOFFSETFROM:-0700
TZOFFSETTO:-0800
TZNAME:PST
DTSTART:20251102T090000
END:STANDARD
END:VTIMEZONE
BEGIN:VEVENT
DTSTART;TZID=America/Los_Angeles:20251217T080000
DTEND;TZID=America/Los_Angeles:20251219T170000
DTSTAMP:20260424T071233
CREATED:20180316T204034Z
LAST-MODIFIED:20250121T155437Z
UID:1770-1765958400-1766163600@atreg.com
SUMMARY:SEMICON Japan
DESCRIPTION:
URL:https://atreg.com/event/connect-with-atreg-at-semicon-japan-2025-in-tokyo/
LOCATION:Tokyo Big Sight\, Tokyo\, Japan
END:VEVENT
END:VCALENDAR