BEGIN:VCALENDAR
VERSION:2.0
PRODID:-//ATREG - ECPv6.9.0//NONSGML v1.0//EN
CALSCALE:GREGORIAN
METHOD:PUBLISH
X-WR-CALNAME:ATREG
X-ORIGINAL-URL:https://atreg.com
X-WR-CALDESC:Events for ATREG
REFRESH-INTERVAL;VALUE=DURATION:PT1H
X-Robots-Tag:noindex
X-PUBLISHED-TTL:PT1H
BEGIN:VTIMEZONE
TZID:America/Los_Angeles
BEGIN:DAYLIGHT
TZOFFSETFROM:-0800
TZOFFSETTO:-0700
TZNAME:PDT
DTSTART:20260308T100000
END:DAYLIGHT
BEGIN:STANDARD
TZOFFSETFROM:-0700
TZOFFSETTO:-0800
TZNAME:PST
DTSTART:20261101T090000
END:STANDARD
END:VTIMEZONE
BEGIN:VEVENT
DTSTART;TZID=America/Los_Angeles:20260111T080000
DTEND;TZID=America/Los_Angeles:20260114T170000
DTSTAMP:20260424T050456
CREATED:20211123T085229Z
LAST-MODIFIED:20251204T083413Z
UID:5822-1768118400-1768410000@atreg.com
SUMMARY:Industry Strategy Symposium (ISS)
DESCRIPTION:
URL:https://atreg.com/event/connect-with-atreg-at-the-2026-iss-event-in-half-moon-bay-ca/
LOCATION:The Ritz Carlton\, 1 Miramontes Point Road\, Half Moon Bay\, CA\, 94019\, United States
END:VEVENT
END:VCALENDAR