BEGIN:VCALENDAR
VERSION:2.0
PRODID:-//ATREG - ECPv6.9.0//NONSGML v1.0//EN
CALSCALE:GREGORIAN
METHOD:PUBLISH
X-ORIGINAL-URL:https://atreg.com
X-WR-CALDESC:Events for ATREG
REFRESH-INTERVAL;VALUE=DURATION:PT1H
X-Robots-Tag:noindex
X-PUBLISHED-TTL:PT1H
BEGIN:VTIMEZONE
TZID:America/Los_Angeles
BEGIN:DAYLIGHT
TZOFFSETFROM:-0800
TZOFFSETTO:-0700
TZNAME:PDT
DTSTART:20260308T100000
END:DAYLIGHT
BEGIN:STANDARD
TZOFFSETFROM:-0700
TZOFFSETTO:-0800
TZNAME:PST
DTSTART:20261101T090000
END:STANDARD
END:VTIMEZONE
BEGIN:VEVENT
DTSTART;TZID=America/Los_Angeles:20260915T080000
DTEND;TZID=America/Los_Angeles:20260916T170000
DTSTAMP:20260424T093718
CREATED:20250123T161316Z
LAST-MODIFIED:20251215T115718Z
UID:6728-1789459200-1789578000@atreg.com
SUMMARY:ISIG EU Summit
DESCRIPTION:
URL:https://atreg.com/event/connect-with-atreg-at-the-2026-isig-eu-summit/
LOCATION:CA
END:VEVENT
END:VCALENDAR