BEGIN:VCALENDAR
VERSION:2.0
PRODID:-//ATREG - ECPv6.9.0//NONSGML v1.0//EN
CALSCALE:GREGORIAN
METHOD:PUBLISH
X-WR-CALNAME:ATREG
X-ORIGINAL-URL:https://atreg.com
X-WR-CALDESC:Events for ATREG
REFRESH-INTERVAL;VALUE=DURATION:PT1H
X-Robots-Tag:noindex
X-PUBLISHED-TTL:PT1H
BEGIN:VTIMEZONE
TZID:America/Los_Angeles
BEGIN:DAYLIGHT
TZOFFSETFROM:-0800
TZOFFSETTO:-0700
TZNAME:PDT
DTSTART:20250309T100000
END:DAYLIGHT
BEGIN:STANDARD
TZOFFSETFROM:-0700
TZOFFSETTO:-0800
TZNAME:PST
DTSTART:20251102T090000
END:STANDARD
END:VTIMEZONE
BEGIN:VEVENT
DTSTART;TZID=America/Los_Angeles:20251118T080000
DTEND;TZID=America/Los_Angeles:20251119T170000
DTSTAMP:20260424T065736
CREATED:20250119T142414Z
LAST-MODIFIED:20250119T142414Z
UID:6714-1763452800-1763571600@atreg.com
SUMMARY:Wells Fargo TMT Conference
DESCRIPTION:
URL:https://atreg.com/event/connect-with-atreg-at-wells-fargo-2025-tmt-conference/
LOCATION:Terranea Resort\, Rancho Palos Verdes\, CA\, United States
END:VEVENT
BEGIN:VEVENT
DTSTART;TZID=America/Los_Angeles:20251120T170000
DTEND;TZID=America/Los_Angeles:20251120T230000
DTSTAMP:20260424T065736
CREATED:20220825T123543Z
LAST-MODIFIED:20250123T161913Z
UID:6038-1763658000-1763679600@atreg.com
SUMMARY:SIA Annual Awards Dinner
DESCRIPTION:
URL:https://atreg.com/event/connect-with-atreg-at-sia-2025-annual-awards-dinner/
LOCATION:San Jose Marriott Hotel\, San Jose\, CA\, United States
END:VEVENT
END:VCALENDAR