BEGIN:VCALENDAR
VERSION:2.0
PRODID:-//ATREG - ECPv6.9.0//NONSGML v1.0//EN
CALSCALE:GREGORIAN
METHOD:PUBLISH
X-ORIGINAL-URL:https://atreg.com
X-WR-CALDESC:Events for ATREG
REFRESH-INTERVAL;VALUE=DURATION:PT1H
X-Robots-Tag:noindex
X-PUBLISHED-TTL:PT1H
BEGIN:VTIMEZONE
TZID:America/Los_Angeles
BEGIN:DAYLIGHT
TZOFFSETFROM:-0800
TZOFFSETTO:-0700
TZNAME:PDT
DTSTART:20260308T100000
END:DAYLIGHT
BEGIN:STANDARD
TZOFFSETFROM:-0700
TZOFFSETTO:-0800
TZNAME:PST
DTSTART:20261101T090000
END:STANDARD
END:VTIMEZONE
BEGIN:VEVENT
DTSTART;TZID=America/Los_Angeles:20260602T080000
DTEND;TZID=America/Los_Angeles:20260603T170000
DTSTAMP:20260424T014938
CREATED:20210130T100622Z
LAST-MODIFIED:20260107T140116Z
UID:5654-1780387200-1780506000@atreg.com
SUMMARY:Stifel Cross-Sector Insight Conference
DESCRIPTION:
URL:https://atreg.com/event/connect-with-atreg-at-stifel-cross-sector-insight-conference/
LOCATION:Intercontinental Boston\, MA\, United States
END:VEVENT
BEGIN:VEVENT
DTSTART;TZID=America/Los_Angeles:20260602T080000
DTEND;TZID=America/Los_Angeles:20260604T170000
DTSTAMP:20260424T014938
CREATED:20170425T193123Z
LAST-MODIFIED:20260108T082132Z
UID:1585-1780387200-1780592400@atreg.com
SUMMARY:Bank of America Global Technology Conference
DESCRIPTION:
URL:https://atreg.com/event/connect-with-atreg-at-bank-of-america-global-technology-conference/
LOCATION:Westin Hotel\, San Francisco\, CA\, United States
END:VEVENT
BEGIN:VEVENT
DTSTART;TZID=America/Los_Angeles:20260610T080000
DTEND;TZID=America/Los_Angeles:20260611T170000
DTSTAMP:20260424T014938
CREATED:20220105T112502Z
LAST-MODIFIED:20251204T083755Z
UID:5878-1781078400-1781197200@atreg.com
SUMMARY:GSA European Executive Forum
DESCRIPTION:
URL:https://atreg.com/event/connect-with-atreg-at-gsa-2026-european-executive-forum/
LOCATION:Sofitel Munich Bayerpost\, Bayerstrasse 12\, Munich\, Bayern\, 80335\, Germany
END:VEVENT
END:VCALENDAR